BEGIN:VCALENDAR
VERSION:2.0
PRODID:-//BIOTECanada - ECPv6.6.4.2//NONSGML v1.0//EN
CALSCALE:GREGORIAN
METHOD:PUBLISH
X-WR-CALNAME:BIOTECanada
X-ORIGINAL-URL:https://www.biotech.ca
X-WR-CALDESC:Events for BIOTECanada
REFRESH-INTERVAL;VALUE=DURATION:PT1H
X-Robots-Tag:noindex
X-PUBLISHED-TTL:PT1H
BEGIN:VTIMEZONE
TZID:America/Toronto
BEGIN:DAYLIGHT
TZOFFSETFROM:-0500
TZOFFSETTO:-0400
TZNAME:EDT
DTSTART:20250309T070000
END:DAYLIGHT
BEGIN:STANDARD
TZOFFSETFROM:-0400
TZOFFSETTO:-0500
TZNAME:EST
DTSTART:20251102T060000
END:STANDARD
END:VTIMEZONE
BEGIN:VEVENT
DTSTART;VALUE=DATE:20250310
DTEND;VALUE=DATE:20250312
DTSTAMP:20260422T091001
CREATED:20250121T154842Z
LAST-MODIFIED:20250121T154842Z
UID:10000449-1741564800-1741737599@www.biotech.ca
SUMMARY:Investival Showcase USA
DESCRIPTION:Join us in Miami on March 10-11\, 2025\, for Investival Showcase USA\, North America’s premier biotech\, medtech\, and digital health networking event. \nThis cutting-edge platform connects innovators with investors and partners through exclusive 1:1 sessions. Building on a decade of European success\, we’re bringing this dynamic format stateside. Whether you’re a start-up or seasoned investor\, don’t miss this opportunity to shape the future of healthcare innovation in vibrant Miami.
URL:https://www.biotech.ca/event/investival-showcase-usa-2025/
CATEGORIES:Discounted for BIOTECanada Members
END:VEVENT
END:VCALENDAR