BEGIN:VCALENDAR
VERSION:2.0
PRODID:-//BIOTECanada - ECPv6.6.4.2//NONSGML v1.0//EN
CALSCALE:GREGORIAN
METHOD:PUBLISH
X-WR-CALNAME:BIOTECanada
X-ORIGINAL-URL:https://www.biotech.ca
X-WR-CALDESC:Events for BIOTECanada
REFRESH-INTERVAL;VALUE=DURATION:PT1H
X-Robots-Tag:noindex
X-PUBLISHED-TTL:PT1H
BEGIN:VTIMEZONE
TZID:America/Toronto
BEGIN:DAYLIGHT
TZOFFSETFROM:-0500
TZOFFSETTO:-0400
TZNAME:EDT
DTSTART:20250309T070000
END:DAYLIGHT
BEGIN:STANDARD
TZOFFSETFROM:-0400
TZOFFSETTO:-0500
TZNAME:EST
DTSTART:20251102T060000
END:STANDARD
END:VTIMEZONE
BEGIN:VEVENT
DTSTART;VALUE=DATE:20250317
DTEND;VALUE=DATE:20250320
DTSTAMP:20260422T091003
CREATED:20250121T154915Z
LAST-MODIFIED:20250121T154915Z
UID:10000446-1742169600-1742428799@www.biotech.ca
SUMMARY:Bio Europe Spring
DESCRIPTION:BIO-Europe Spring connects Europe’s top innovation centers with the global life sciences industry to cultivate thriving strategic partnerships
URL:https://www.biotech.ca/event/bio-europe-spring-2025/
CATEGORIES:Discounted for BIOTECanada Members
END:VEVENT
BEGIN:VEVENT
DTSTART;TZID=America/Toronto:20250318T080000
DTEND;TZID=America/Toronto:20250318T160000
DTSTAMP:20260422T091003
CREATED:20250305T201728Z
LAST-MODIFIED:20250305T205220Z
UID:10000451-1742284800-1742313600@www.biotech.ca
SUMMARY:Challenges in Advancing Therapeutic Options for Cancers: Are Early Efficacy and Safety Endpoints Sufficient?
DESCRIPTION:Joint Workshop hosted by\nHealth Canada\nand\nCanadian Society for Pharmaceutical Sciences (CSPS)\nThe objective of the workshop will be to advance education and dialog among stakeholders about frontiers in clinical development and regulatory/HTA decision making for early stage cancers. The program (in development) will include presentations and panel discussions about clinical trial endpoints\, opportunities and challenges in establishing endpoint surrogacy\, regulatory and HTA decision making\, and patient voice.
URL:https://www.biotech.ca/event/https-site-pheedloop-com-event-oncologyworkshop-register-categorycatx0e11ycwstart/
CATEGORIES:Discounted for BIOTECanada Members
END:VEVENT
END:VCALENDAR