BEGIN:VCALENDAR
VERSION:2.0
PRODID:-//BIOTECanada - ECPv6.6.4.2//NONSGML v1.0//EN
CALSCALE:GREGORIAN
METHOD:PUBLISH
X-WR-CALNAME:BIOTECanada
X-ORIGINAL-URL:https://www.biotech.ca
X-WR-CALDESC:Events for BIOTECanada
REFRESH-INTERVAL;VALUE=DURATION:PT1H
X-Robots-Tag:noindex
X-PUBLISHED-TTL:PT1H
BEGIN:VTIMEZONE
TZID:America/Toronto
BEGIN:DAYLIGHT
TZOFFSETFROM:-0500
TZOFFSETTO:-0400
TZNAME:EDT
DTSTART:20250309T070000
END:DAYLIGHT
BEGIN:STANDARD
TZOFFSETFROM:-0400
TZOFFSETTO:-0500
TZNAME:EST
DTSTART:20251102T060000
END:STANDARD
END:VTIMEZONE
BEGIN:VEVENT
DTSTART;TZID=America/Toronto:20250410T120000
DTEND;TZID=America/Toronto:20250410T130000
DTSTAMP:20260422T105344
CREATED:20250319T192106Z
LAST-MODIFIED:20250319T192106Z
UID:10000453-1744286400-1744290000@www.biotech.ca
SUMMARY:Investing at the Frontier of Life Sciences Innovation [Webinar]
DESCRIPTION:AI-driven breakthroughs are accelerating drug discovery\, transforming diagnostics\, and pushing the boundaries of precision medicine. Quantum computing is advancing toward commercialization\, with the potential to reshape molecular modeling and therapeutic development. Canada has the research leadership\, deep technology capabilities\, and growing private capital interest to turn these advancements into global competitive advantages—but the question is how investors can position themselves to capture the upside. \nThis webinar\, presented in partnership with BIOTECanada\, brings together leading investors to explore where innovation and technology have already generated returns in life sciences\, how biotech investment models are evolving\, and what private capital needs to do now to stay ahead of the next wave of disruption. With drug development cycles shortening\, computational breakthroughs unlocking new IP\, and a shift from one-drug companies to biotech platforms\, this discussion will focus on the real investment opportunities that will define the next decade of life sciences. \nRegister Here \nThe webinar is free for everyone\, will be live-streamed on our LinkedIn and also available to watch after on our website.
URL:https://www.biotech.ca/event/investing-at-the-frontier-of-life-sciences-innovation/
CATEGORIES:Webinar
END:VEVENT
END:VCALENDAR