BEGIN:VCALENDAR
VERSION:2.0
PRODID:-//BIOTECanada - ECPv6.6.4.2//NONSGML v1.0//EN
CALSCALE:GREGORIAN
METHOD:PUBLISH
X-WR-CALNAME:BIOTECanada
X-ORIGINAL-URL:https://www.biotech.ca
X-WR-CALDESC:Events for BIOTECanada
REFRESH-INTERVAL;VALUE=DURATION:PT1H
X-Robots-Tag:noindex
X-PUBLISHED-TTL:PT1H
BEGIN:VTIMEZONE
TZID:America/Toronto
BEGIN:DAYLIGHT
TZOFFSETFROM:-0500
TZOFFSETTO:-0400
TZNAME:EDT
DTSTART:20250309T070000
END:DAYLIGHT
BEGIN:STANDARD
TZOFFSETFROM:-0400
TZOFFSETTO:-0500
TZNAME:EST
DTSTART:20251102T060000
END:STANDARD
END:VTIMEZONE
BEGIN:VEVENT
DTSTART;VALUE=DATE:20250505
DTEND;VALUE=DATE:20250507
DTSTAMP:20260421T172320
CREATED:20250121T154938Z
LAST-MODIFIED:20250121T154938Z
UID:10000445-1746403200-1746575999@www.biotech.ca
SUMMARY:Bloom Burton Healthcare Investor Conference
DESCRIPTION:The Bloom Burton & Co. Healthcare Investor Conference is taking place annually at the Metro Toronto Convention Centre (North Building). We are inviting Canada’s premier publicly-traded and venture-backed private companies as well as the most promising pre-venture companies in the healthcare industry. \nJoin Canadian\, U.S. and international investors who are interested in the latest developments in Canadian healthcare companies. Investors have the opportunity to obtain corporate updates from presenting companies\, and participate in our 1-on-1 meeting system with company management. For conference sponsorship or presenting company information\, please reach out to bbloom@bloomburton.com.
URL:https://www.biotech.ca/event/bloom-burton-healthcare-investor-conference-2025/
CATEGORIES:Member Event
END:VEVENT
BEGIN:VEVENT
DTSTART;VALUE=DATE:20250505
DTEND;VALUE=DATE:20250507
DTSTAMP:20260421T172320
CREATED:20250121T155021Z
LAST-MODIFIED:20250121T155021Z
UID:10000448-1746403200-1746575999@www.biotech.ca
SUMMARY:Swiss Biotech Day
DESCRIPTION:Experience the Swiss Biotech Day\, a premier biotechnology conference\, and join us in 2025 for an unparalleled gathering of more than 2\,500 professionals from the global life sciences community. Explore the latest advancements in R&D\, manufacturing\, data management\, artificial intelligence\, and innovative financing.
URL:https://www.biotech.ca/event/swiss-biotech-day-2025/
CATEGORIES:Member Event
END:VEVENT
BEGIN:VEVENT
DTSTART;TZID=America/Toronto:20250505T190000
DTEND;TZID=America/Toronto:20250505T220000
DTSTAMP:20260421T172320
CREATED:20250414T220158Z
LAST-MODIFIED:20250414T220158Z
UID:10000458-1746471600-1746482400@www.biotech.ca
SUMMARY:BIOTECanada Innovators & Industry : Biotech Networking Evening
DESCRIPTION:Join your fellow life sciences executives at the BIOTECanada Innovators & Industry: Biotech Networking Evening following the Bloom Burton & Co. Healthcare Investor Conference reception.  \nTo RSVP for this event\, please visit: https://www.eventbrite.ca/e/biotecanadas-innovators-industry-biotech-networking-evening-tickets-1317443752729?aff=oddtdtcreator \n \nThank you to our co-hosts: Lumira Ventures and Mintz
URL:https://www.biotech.ca/event/biotecanada-innovators-industry-biotech-networking-evening/
LOCATION:Malaparte\, 350 king st. West\, Toronto\, Toronto\, M5V 3x5\, Canada
END:VEVENT
END:VCALENDAR