BEGIN:VCALENDAR
VERSION:2.0
PRODID:-//BIOTECanada - ECPv6.6.4.2//NONSGML v1.0//EN
CALSCALE:GREGORIAN
METHOD:PUBLISH
X-WR-CALNAME:BIOTECanada
X-ORIGINAL-URL:https://www.biotech.ca
X-WR-CALDESC:Events for BIOTECanada
REFRESH-INTERVAL;VALUE=DURATION:PT1H
X-Robots-Tag:noindex
X-PUBLISHED-TTL:PT1H
BEGIN:VTIMEZONE
TZID:America/Toronto
BEGIN:DAYLIGHT
TZOFFSETFROM:-0500
TZOFFSETTO:-0400
TZNAME:EDT
DTSTART:20260308T070000
END:DAYLIGHT
BEGIN:STANDARD
TZOFFSETFROM:-0400
TZOFFSETTO:-0500
TZNAME:EST
DTSTART:20261101T060000
END:STANDARD
END:VTIMEZONE
BEGIN:VEVENT
DTSTART;VALUE=DATE:20260421
DTEND;VALUE=DATE:20260423
DTSTAMP:20260422T074323
CREATED:20260303T182905Z
LAST-MODIFIED:20260303T205539Z
UID:10000508-1776729600-1776902399@www.biotech.ca
SUMMARY:2026 BLOOM BURTON & CO. HEALTHCARE INVESTOR CONFERENCE
DESCRIPTION:About\nThe Bloom Burton & Co. Healthcare Investor Conference takes place annually at the Metro Toronto Convention Centre (North Building). We are inviting Canada’s premier publicly-traded and venture-backed private companies as well as the most promising pre-venture companies in the healthcare industry. \nJoin Canadian\, U.S. and international investors who are interested in the latest developments in Canadian healthcare companies. Investors have the opportunity to obtain corporate updates from presenting companies\, and certain investors will be invited to participate in our 1-on-1 meeting system with company management. For conference sponsorship or presenting company information\, please reach out to bbloom@bloomburton.com.
URL:https://www.biotech.ca/event/2026-bloom-burton-co-healthcare-investor-conference/
LOCATION:Toronto\, 255 Front St W\, Toronto\, ON\, M5V 2W6\, Canada
END:VEVENT
BEGIN:VEVENT
DTSTART;TZID=America/Toronto:20260421T190000
DTEND;TZID=America/Toronto:20260421T213000
DTSTAMP:20260422T074323
CREATED:20260323T180918Z
LAST-MODIFIED:20260323T180918Z
UID:10000514-1776798000-1776807000@www.biotech.ca
SUMMARY:BIOTECanada Innovators & Industry: Biotech Networking Evening
DESCRIPTION:Join BIOTECanada and Baker McKenzie for the Innovators & Industry: Biotech Networking Evening\, a cocktail reception hosted alongside the Bloom Burton & Co. Healthcare Investor Conference (BBHIC). \nThis dynamic gathering brings together leaders and emerging talent from across Canada’s biotech landscape. Connect with executives\, investors\, pharma and BD professionals\, legal and advisory partners\, and other industry influencers driving innovation forward. \nOpen to both BBHIC delegates and the broader life sciences community\, this is an evening designed to spark meaningful connections and celebrate the strength of Canada’s biotech sector.
URL:https://www.biotech.ca/event/biotecanada-innovators-industry-biotech-networking-evening-2/
LOCATION:Malaparte\, 350 king st. West\, Toronto\, Toronto\, M5V 3x5\, Canada
END:VEVENT
END:VCALENDAR